BEGIN:VCALENDAR
VERSION:2.0
PRODID:-//ChamberMaster//Event Calendar 2.0//EN
METHOD:PUBLISH
X-PUBLISHED-TTL:P3D
REFRESH-INTERVAL:P3D
CALSCALE:GREGORIAN
BEGIN:VEVENT
DTSTART:20260413T160000Z
DTEND:20260413T183000Z
X-MICROSOFT-CDO-ALLDAYEVENT:FALSE
SUMMARY:Zentangle with Margaret Hosted by Recovering Hands
DESCRIPTION:Zentangle with Margaret Hosted by Recovering Hands
X-ALT-DESC;FMTTYPE=text/html:Zentangle with Margaret Hosted by Recovering Hands
LOCATION:4067 Beulah Rd. Nathalie\, VA
UID:e.845.25127
SEQUENCE:3
DTSTAMP:20260423T115503Z
URL:https://www.halifaxchamber.net/events/details/zentangle-with-margaret-hosted-by-recovering-hands-25127
END:VEVENT

END:VCALENDAR
