BEGIN:VCALENDAR
VERSION:2.0
PRODID:-//ChamberMaster//Event Calendar 2.0//EN
METHOD:PUBLISH
X-PUBLISHED-TTL:P3D
REFRESH-INTERVAL:P3D
CALSCALE:GREGORIAN
BEGIN:VEVENT
DTSTART:20160312T160000Z
DTEND:20160312T180000Z
X-MICROSOFT-CDO-ALLDAYEVENT:FALSE
SUMMARY:Virginia Opera's Production of "Little Red Riding Hood"
DESCRIPTION:This classic tale is presented as an opera short\, composed by members ot the Opera's music staff. This production is specifically tailored for young audiences.
X-ALT-DESC;FMTTYPE=text/html:This classic tale is presented as an opera short\, composed by members ot the Opera&#39\;s music staff. This production is specifically tailored for young audiences.
LOCATION:The Prizery 700 Bruce Street South Boston\, VA 24592
UID:e.845.4593
SEQUENCE:3
DTSTAMP:20260425T112053Z
URL:https://www.halifaxchamber.net/events/details/virginia-opera-s-production-of-little-red-riding-hood-03-12-2016-4593
END:VEVENT

END:VCALENDAR
