BEGIN:VCALENDAR
VERSION:2.0
PRODID:-//ChamberMaster//Event Calendar 2.0//EN
METHOD:PUBLISH
X-PUBLISHED-TTL:P3D
REFRESH-INTERVAL:P3D
CALSCALE:GREGORIAN
BEGIN:VEVENT
DTSTART:20260516T130000Z
DTEND:20260516T170000Z
X-MICROSOFT-CDO-ALLDAYEVENT:FALSE
SUMMARY:The Prizery's Youth Dance Classes: Under The Sea
DESCRIPTION:Allison Snead will be teaching 3 different age groups a basic dance routine! These classes are a great opportunity for your children to get moving and to meet others! Under The Sea 9 - 10 am: 5 - 8 years old 10:30 - 11:30am: 9 - 13 years old 12 - 1pm: 14 - 17 years old $5 per class A limited number of scholarships are available based on financial need. Call (434) 572-8339 or email info@prizery.com for questions about the classes or scholarships.
X-ALT-DESC;FMTTYPE=text/html:Allison Snead will be teaching 3 different age groups a basic dance routine! These classes are a great opportunity for your children to get moving and to meet others! Under The Sea 9 - 10 am: 5 - 8 years old 10:30 - 11:30am: 9 - 13 years old 12 - 1pm: 14 - 17 years old $5 per class A limited number of scholarships are available based on financial need. Call (434) 572-8339 or email info@prizery.com for questions about the classes or scholarships.
LOCATION:The Prizery 700 Bruce Street South Boston\, VA. 24592
UID:e.845.25183
SEQUENCE:3
DTSTAMP:20260423T115858Z
URL:https://www.halifaxchamber.net/events/details/the-prizery-s-youth-dance-classes-under-the-sea-25183
END:VEVENT

END:VCALENDAR
