BEGIN:VCALENDAR
VERSION:2.0
PRODID:-//ChamberMaster//Event Calendar 2.0//EN
METHOD:PUBLISH
X-PUBLISHED-TTL:P3D
REFRESH-INTERVAL:P3D
CALSCALE:GREGORIAN
BEGIN:VEVENT
DTSTART:20260615T123000Z
DTEND:20260619T160000Z
X-MICROSOFT-CDO-ALLDAYEVENT:FALSE
SUMMARY:The Prizery's Arts Academy Summer Camp: Week 2 9 to 12 years old
DESCRIPTION:The Prizery's Arts Academy will be hosting summer camp! This camp will focus on arts\, music\, dance\, and movement. During camp children will be able to learn\, explore the arts\, and meet other students. It is $75 per student and A limited number of partial scholarships are available based on financial need. For more information about scholarships or camp call (434) 572-8339 or email info@prizery.com
X-ALT-DESC;FMTTYPE=text/html:The Prizery&#39\;s Arts Academy will be hosting summer camp! This camp will focus on arts\, music\, dance\, and movement. During camp children will be able to learn\, explore the arts\, and meet other students. It is $75 per student and A limited number of partial scholarships are available based on financial need. For more information about scholarships or camp call (434) 572-8339 or email info@prizery.com
LOCATION:The Prizery 700 Bruce Street South Boston\, VA. 24592
UID:e.845.25186
SEQUENCE:3
DTSTAMP:20260423T114509Z
URL:https://www.halifaxchamber.net/events/details/the-prizery-s-arts-academy-summer-camp-week-2-9-to-12-years-old-25186
END:VEVENT

END:VCALENDAR
