BEGIN:VCALENDAR
VERSION:2.0
PRODID:-//ChamberMaster//Event Calendar 2.0//EN
METHOD:PUBLISH
X-PUBLISHED-TTL:P3D
REFRESH-INTERVAL:P3D
CALSCALE:GREGORIAN
BEGIN:VEVENT
DTSTART:20260709T140000Z
DTEND:20260709T153000Z
X-MICROSOFT-CDO-ALLDAYEVENT:FALSE
SUMMARY:The Prizery's Art Class: Embroidery
DESCRIPTION:Come join The Prizery and Allison Snead in a fun workshop. We will learn to embroider by creating flowers & quotes for you to take home! This is great for all all. The class is 14 years an older\, $10 per person\, and all supplies are included. A limited number of scholarships are available based on financial need. Please call (434) 572-8339\, visit prizery.org\, or email info@prizery.com for general and scholarship information!
X-ALT-DESC;FMTTYPE=text/html:Come join The Prizery and Allison Snead in a fun workshop. We will learn to embroider by creating flowers &amp\; quotes for you to take home! This is great for all all. The class is 14 years an older\, $10 per person\, and all supplies are included. A limited number of scholarships are available based on financial need. Please call (434) 572-8339\, visit prizery.org\, or email info@prizery.com for general and scholarship information!
LOCATION:The Prizery 700 Bruce Street South Boston\, VA. 24592
UID:e.845.25178
SEQUENCE:3
DTSTAMP:20260423T120449Z
URL:https://www.halifaxchamber.net/events/details/the-prizery-s-art-class-embroidery-25178
END:VEVENT

END:VCALENDAR
