BEGIN:VCALENDAR
VERSION:2.0
PRODID:-//ChamberMaster//Event Calendar 2.0//EN
METHOD:PUBLISH
X-PUBLISHED-TTL:P3D
REFRESH-INTERVAL:P3D
CALSCALE:GREGORIAN
BEGIN:VEVENT
DTSTART:20260604T140000Z
DTEND:20260604T153000Z
X-MICROSOFT-CDO-ALLDAYEVENT:FALSE
SUMMARY:The Prizery's Art Class: Create Greeting Cards for all Occasions
DESCRIPTION:Come create beautiful greeting cards for all occasions! The class is 14 and older\, all supplies are included\, and a limited number of scholarships are available based on financial need. Call The Prizery (434) 572 - 8339\, visit our website prizery.org\, or email info@prizery.com for scholarship and general class information!
X-ALT-DESC;FMTTYPE=text/html:Come create beautiful greeting cards for all occasions! The class is 14 and older\, all supplies are included\, and a limited number of scholarships are available based on financial need. Call The Prizery (434) 572 - 8339\, visit our website prizery.org\, or email info@prizery.com for scholarship and general class information!
LOCATION:The Prizery 700 Bruce Street South Boston\, VA. 24592
UID:e.845.25177
SEQUENCE:3
DTSTAMP:20260423T114300Z
URL:https://www.halifaxchamber.net/events/details/the-prizery-s-art-class-create-greeting-cards-for-all-occasions-25177
END:VEVENT

END:VCALENDAR
