BEGIN:VCALENDAR
VERSION:2.0
PRODID:-//ChamberMaster//Event Calendar 2.0//EN
METHOD:PUBLISH
X-PUBLISHED-TTL:P3D
REFRESH-INTERVAL:P3D
CALSCALE:GREGORIAN
BEGIN:VEVENT
DTSTART:20260722T223000Z
DTEND:20260723T000000Z
X-MICROSOFT-CDO-ALLDAYEVENT:FALSE
SUMMARY:The Prizery's Adult Jazz Dance Class
DESCRIPTION:Join Allison Snead in a great night learning a new dance. In this class you will learn one dance routine to a jazz song! No experience is necessary. $10 per class Call (434) 572-8339 or email info@prizery.com for questions
X-ALT-DESC;FMTTYPE=text/html:Join Allison Snead in a great night learning a new dance. In this class you will learn one dance routine to a jazz song! No experience is necessary. $10 per class Call (434) 572-8339 or email info@prizery.com for questions
LOCATION:The Prizery 700 Bruce Street South Boston\, VA. 24592
UID:e.845.25181
SEQUENCE:3
DTSTAMP:20260423T120513Z
URL:https://www.halifaxchamber.net/events/details/the-prizery-s-adult-jazz-dance-class-25181
END:VEVENT

END:VCALENDAR
