BEGIN:VCALENDAR
VERSION:2.0
PRODID:-//ChamberMaster//Event Calendar 2.0//EN
METHOD:PUBLISH
X-PUBLISHED-TTL:P3D
REFRESH-INTERVAL:P3D
CALSCALE:GREGORIAN
BEGIN:VEVENT
DTSTART:20260624T223000Z
DTEND:20260625T000000Z
X-MICROSOFT-CDO-ALLDAYEVENT:FALSE
SUMMARY:The Prizery's Adult Contemporary Dance Class
DESCRIPTION:Join Allison Snead for a great night of dancing. Come join this one night dance class to learn a great contemporary dance routine. $10 per class Call (434) 572-8339 or email info@prizery.com for questions.
X-ALT-DESC;FMTTYPE=text/html:Join Allison Snead for a great night of dancing. Come join this one night dance class to learn a great contemporary dance routine. $10 per class Call (434) 572-8339 or email info@prizery.com for questions.
LOCATION:The Prizery 700 Bruce Street South Boston\, VA. 24592
UID:e.845.25180
SEQUENCE:3
DTSTAMP:20260423T120011Z
URL:https://www.halifaxchamber.net/events/details/the-prizery-s-adult-contemporary-dance-class-25180
END:VEVENT

END:VCALENDAR
