BEGIN:VCALENDAR
VERSION:2.0
PRODID:-//ChamberMaster//Event Calendar 2.0//EN
METHOD:PUBLISH
X-PUBLISHED-TTL:P3D
REFRESH-INTERVAL:P3D
CALSCALE:GREGORIAN
BEGIN:VEVENT
DTSTART:20160315T213000Z
DTEND:20160315T230000Z
X-MICROSOFT-CDO-ALLDAYEVENT:FALSE
SUMMARY:Steps To Destiny Lupus Support Group Interest Meeting
DESCRIPTION:Lupus Support Group Interest Meeting with Myrah Lykes Lupus Support Group Facilitator and 22 year Lupus survivor.
X-ALT-DESC;FMTTYPE=text/html:Lupus Support Group Interest Meeting with Myrah Lykes Lupus Support Group Facilitator and 22 year Lupus survivor.<br />\n<br />\n&nbsp\;
LOCATION:YMCA of South Boston/Halifax County 650 Hamilton Blvd. South Boston\, VA 24592
UID:e.845.4588
SEQUENCE:3
DTSTAMP:20260425T111719Z
URL:https://www.halifaxchamber.net/events/details/steps-to-destiny-lupus-support-group-interest-meeting-03-15-2016-4588
END:VEVENT

END:VCALENDAR
