BEGIN:VCALENDAR
VERSION:2.0
PRODID:-//ChamberMaster//Event Calendar 2.0//EN
METHOD:PUBLISH
X-PUBLISHED-TTL:P3D
REFRESH-INTERVAL:P3D
CALSCALE:GREGORIAN
BEGIN:VEVENT
DTSTART:20191210T000000Z
DTEND:20191210T020000Z
X-MICROSOFT-CDO-ALLDAYEVENT:FALSE
SUMMARY:South Boston Town Council Meeting
DESCRIPTION:South Boston Town Council monthly meeting
X-ALT-DESC;FMTTYPE=text/html:South Boston Town Council monthly meeting&nbsp\;&nbsp\;&nbsp\;&nbsp\;
LOCATION:Council Chambers Yancey Street South Boston\, VA
UID:e.845.12365
SEQUENCE:3
DTSTAMP:20260420T203557Z
URL:https://www.halifaxchamber.net/events/details/south-boston-town-council-meeting-12-09-2019-12365
END:VEVENT

END:VCALENDAR
