BEGIN:VCALENDAR
VERSION:2.0
PRODID:-//ChamberMaster//Event Calendar 2.0//EN
METHOD:PUBLISH
X-PUBLISHED-TTL:P3D
REFRESH-INTERVAL:P3D
CALSCALE:GREGORIAN
BEGIN:VEVENT
DTSTART;VALUE=DATE:20260926
DTEND;VALUE=DATE:20260927
TRANSP:TRANSPARENT
X-MICROSOFT-CDO-ALLDAYEVENT:TRUE
SUMMARY:South Boston Harvest Festival
DESCRIPTION:Begins at the South Boston Farmer's Market and continues Downtown into the Harvest Festival\n\n\n\nFood Trucks\, Vendors\, and Live Music!\n\nThe Annual Harvest Festival is filled with activities for all ages. Enjoy local crafters and vendors\, food trucks\, games\, live entertainment\, kids activities\, and lots more! Watch for more details and visit the website for information at www.downtownsobo.com
X-ALT-DESC;FMTTYPE=text/html:<br />\n<span style="font-size:18px\;"><strong style="font-size: 14px\;">Begins at the&nbsp\;South Boston Farmer&#39\;s Market and continues Downtown into the Harvest Festival</strong></span><br />\n<br />\n<span style="font-size:16px\;">Food Trucks\, Vendors\, and Live Music!<br />\n<span style="color: rgb(8\, 8\, 9)\; font-family: system-ui\, -apple-system\, &quot\;system-ui&quot\;\, &quot\;.SFNSText-Regular&quot\;\, sans-serif\;">The Annual Harvest Festival is filled with activities for all ages. Enjoy local crafters and vendors\, food trucks\, games\, live entertainment\, kids activities\, and lots more! Watch for more details and visit the website for information at&nbsp\;</span><a attributionsrc="/privacy_sandbox/comet/register/source/?xt=AZbdz-lUT62lkGc-wfyop9c74T4c1GoVFyx606QDiC5Ch2aq0_dHYNK2HHQ0eH16lfl7x4rZUsi1uWprwlQ8F2CgupuUcLAjT-_gwAR0684fLBOTL0aPS0yGtseh5VjQmFmtTHfPpjZHBFG5wNGGmXnkghAdQmllnPEAlt-9IVqvlWz2bQmyrfGGARKGgarC23IXlkw4B6962O3UpN7O48fhO311H-gDx24gPgt2vdZDu0XWPeiUQOEoLQWKYkF2_HMuLDMcoJUhPM4EdyKUivdXYaLuU4_KUDIwUtzrxVZiuucbozK35M_q-1hPSbf_qSJ3aMO-9Ys6Bjh7k7T3o8uSlunwPY2nj4hJkaKn5jTsm0n0p99RjJaugTLYcU21zPp5YsNByZlw0RIa627BCUKWIZEpd6UsUd0yC3fDXYHyxO6TZzFfz3TahyB5lRRFY4DToYveCMaeN8vpNGgJ7xch87hSLgjTEV2GKUgw65UjoAOZAHHMYJmCnkr6kfNPoJ9iqeZwpJFRi90cXsGqrfwYI4ple1183L9F_tEEoYuZvJUK8CWqxwHtW2E8ggYNJpsMZgRSbCMlOp865xwl-A-miSfXegC7Ds3dRiAzVyGrOOw_yMLisGNXlvjLl126o0YO30LRi-XnEtSEjqcx0dux3DjL2nznBjptg9xT9zh2W_5G2MtpJxC_tcJ4Br5LVmRNhzsM1Fr_7tAyFroFBXeTpmo25ajtBDnd9W2eZOfhJl3hMN_blksTvsNppcMpqv6NCtcXjjlLqyo4Y5ZAjBKxL6yaqC5dbe6bbnitItHaw2UiqomU1XFH9Q8o_ui-K7k-HXd1DDTf5nyn4LEnbit49baa7CklUfwCC1Cb3ejxh8vgT6OWnBSGDrSbQM4WvQXOoFxSgcNgstX8yEacDS_c" class="x1i10hfl xjbqb8w x1ejq31n x18oe1m7 x1sy0etr xstzfhl x972fbf x10w94by x1qhh985 x14e42zd x9f619 x1ypdohk xt0psk2 x3ct3a4 xdj266r x14z9mp xat24cr x1lziwak xexx8yu xyri2b x18d9i69 x1c1uobl x16tdsg8 x1hl2dhg xggy1nq x1a2a7pz xkrqix3 x1sur9pj x1fey0fg x1s688f" href="http://www.downtownsobo.com/?fbclid=IwZXh0bgNhZW0CMTAAYnJpZBExalIxYVZxdzJ1V0lPZmZ2MnNydGMGYXBwX2lkEDIyMjAzOTE3ODgyMDA4OTIAAR7rD1ymYDCGZND7TTpWKuoy1qzSOY2LPYve2-_J5x_CnTV4byTyBY8GcBj5dQ_aem_vMTCXfx39KUbfRznuIPCmw" rel="nofollow noreferrer" role="link" style="color: rgb(0\, 100\, 209)\; cursor: pointer\; outline: none\; border-inline-width: 0px\; margin-inline: 0px\; border-inline-style: none\; padding-inline: 0px\; -webkit-tap-highlight-color: transparent\; font-weight: 600\; list-style-type: none\; box-sizing: border-box\; touch-action: manipulation\; display: inline\; padding-bottom: 0px\; border-top-style: none\; border-bottom-width: 0px\; border-bottom-style: none\; border-top-width: 0px\; margin-bottom: 0px\; margin-top: 0px\; padding-top: 0px\; font-family: system-ui\, -apple-system\, &quot\;system-ui&quot\;\, &quot\;.SFNSText-Regular&quot\;\, sans-serif\; font-size: 15px\;" tabindex="0" target="_blank">www.downtownsobo.com</a></span>
LOCATION:
UID:e.845.25116
SEQUENCE:3
DTSTAMP:20260423T193412Z
URL:https://www.halifaxchamber.net/events/details/south-boston-harvest-festival-09-26-2026-25116
END:VEVENT

END:VCALENDAR
