BEGIN:VCALENDAR
VERSION:2.0
PRODID:-//ChamberMaster//Event Calendar 2.0//EN
METHOD:PUBLISH
X-PUBLISHED-TTL:P3D
REFRESH-INTERVAL:P3D
CALSCALE:GREGORIAN
BEGIN:VEVENT
DTSTART:20170630T233000Z
DTEND:20170701T013000Z
X-MICROSOFT-CDO-ALLDAYEVENT:FALSE
SUMMARY:Red\, White and Broadway at The Prizery
DESCRIPTION:Enjoy the professional company as they present your favorite patriotic tunes. In addition\, they will sing on of their favorite Broadway tunes. A great concert for the entire family!
X-ALT-DESC;FMTTYPE=text/html:Enjoy the professional company as they present your favorite patriotic tunes. In addition\, they will sing on of their favorite Broadway tunes. A great concert for the entire family!&nbsp\;
LOCATION:The Prizery Chastain Theatre 700 Bruce Street South Boston\, VA
UID:e.845.5936
SEQUENCE:3
DTSTAMP:20260423T004242Z
URL:https://www.halifaxchamber.net/events/details/red-white-and-broadway-at-the-prizery-5936
END:VEVENT

END:VCALENDAR
