BEGIN:VCALENDAR
VERSION:2.0
PRODID:-//ChamberMaster//Event Calendar 2.0//EN
METHOD:PUBLISH
X-PUBLISHED-TTL:P3D
REFRESH-INTERVAL:P3D
CALSCALE:GREGORIAN
BEGIN:VEVENT
DTSTART:20160310T223000Z
DTEND:20160311T010000Z
X-MICROSOFT-CDO-ALLDAYEVENT:FALSE
SUMMARY:Presentation on Pop-Up Marion
DESCRIPTION:Want to be an entrepreneur?\n\n\n\nInterested in starting your own business\, but you're not sure how to go about creating your dream business?\n\n\n\nWe're here to help! We are excited to have Ken Heath\, Marion's Director of Community and Economic Development\, come tell us about Marion's success and how they filled their vacant storefronts!\n\n\n\nThey developed a program "Pop Up Marion"\, a five-week entrepreneur training program designed for startups and expansions.\n\n\n\nBudding entrepreneurs learned all the ins and outs of starting their own small business\, even developing their own business plan\, and competed for up to $5\,000 in startup grant monies!\n\n\n\nWe are looking forward to modeling this "Pop Up Marion" program in South Boston and partnering with Longwood Small Business Development Center- it is a proven\, exciting way to move your community through helping budding entrepreneurs and existing business owners learn the skills they need.\n\n\n\nCome listen to this exciting presentation and LETS GROW THIS ECONOMY!
X-ALT-DESC;FMTTYPE=text/html:&nbsp\;&nbsp\;&nbsp\;&nbsp\;&nbsp\;&nbsp\;&nbsp\;&nbsp\;&nbsp\;&nbsp\;&nbsp\;&nbsp\;&nbsp\;&nbsp\;&nbsp\;&nbsp\;Want to be an entrepreneur?<br />\n<br />\nInterested in starting your own business\, but you&#39\;re not sure how to go about creating your dream business?<br />\n<br />\nWe&#39\;re here to help! We are excited to have Ken Heath\, Marion&#39\;s Director of Community and Economic Development\, come tell us about Marion&#39\;s success and how they filled their vacant storefronts!<br />\n<br />\nThey developed a program &quot\;Pop Up Marion&quot\;\, a five-week entrepreneur training program designed for startups and expansions.<br />\n<br />\nBudding entrepreneurs learned all the ins and outs of starting their own small business\, even developing their own business plan\, and competed&nbsp\;for up to $5\,000 in startup grant monies!<br />\n<br />\nWe are looking forward&nbsp\;to modeling this &quot\;Pop Up Marion&quot\; program in South Boston and partnering with Longwood Small Business Development Center- it is a proven\, exciting way to move your community through helping budding entrepreneurs and existing business owners learn the skills they need.<br />\n<br />\nCome listen to this exciting presentation and LETS GROW THIS ECONOMY!
LOCATION:Innovation Center 820 Bruce Street South Boston\, VA 24592 Tiered Conference Center
UID:e.845.4578
SEQUENCE:3
DTSTAMP:20260425T111214Z
URL:https://www.halifaxchamber.net/events/details/presentation-on-pop-up-marion-03-10-2016-4578
END:VEVENT

END:VCALENDAR
