BEGIN:VCALENDAR
VERSION:2.0
PRODID:-//ChamberMaster//Event Calendar 2.0//EN
METHOD:PUBLISH
X-PUBLISHED-TTL:P3D
REFRESH-INTERVAL:P3D
CALSCALE:GREGORIAN
BEGIN:VEVENT
DTSTART:20160311T223000Z
DTEND:20160312T000000Z
X-MICROSOFT-CDO-ALLDAYEVENT:FALSE
SUMMARY:Photography Show by Blakely Swanson
DESCRIPTION:Award winning photographer\, Blakely Swanson\, will be hosting a show at the Prizery in The Cage Gallery in March & April. The theme of the show is "Strength Beauty & a little humor." Join Blakely for the artist's reception Friday\, March 11th.
X-ALT-DESC;FMTTYPE=text/html:Award winning photographer\, Blakely Swanson\, will be hosting a show at the Prizery in The Cage Gallery in March &amp\; April. The theme of the show is &quot\;Strength Beauty &amp\; a little humor.&quot\; Join Blakely for the artist&#39\;s reception Friday\, March 11th.&nbsp\;&nbsp\;&nbsp\;
LOCATION:The Cage Gallery at The Prizery 700 Bruce Street South Boston\, VA 24592
UID:e.845.4589
SEQUENCE:3
DTSTAMP:20260425T111540Z
URL:https://www.halifaxchamber.net/events/details/photography-show-by-blakely-swanson-03-11-2016-4589
END:VEVENT

END:VCALENDAR
