BEGIN:VCALENDAR
VERSION:2.0
PRODID:-//ChamberMaster//Event Calendar 2.0//EN
METHOD:PUBLISH
X-PUBLISHED-TTL:P3D
REFRESH-INTERVAL:P3D
CALSCALE:GREGORIAN
BEGIN:VEVENT
DTSTART:20260507T230000Z
DTEND:20260508T010000Z
X-MICROSOFT-CDO-ALLDAYEVENT:FALSE
SUMMARY:Mad Hatter Mixology
DESCRIPTION:Step into a world of imagination and curiosity at Berry Hill Resort with our Mad Hatter Mixology Experience\, inspired by the whimsical world of Alice in Wonderland. Join us for a playful evening of creativity and cocktails as our talented Mixologist Taylor Wazeka guides guests through the art of crafting three delightfully themed cocktails inspired by the beloved story.\n\nDuring this interactive class\, you'll learn professional mixology techniques while creating three imaginative drinks that capture the magic\, mystery\, and colorful characters of Wonderland. Guests will enjoy tasting each cocktail and will receive recipe cards to recreate the experience at home.\n\nWhether you're a cocktail enthusiast or simply looking for a unique evening out\, this enchanting mixology class promises an unforgettable journey down the rabbit hole.\n\nTickets are $35 per person.\n\nReservations are recommended.
X-ALT-DESC;FMTTYPE=text/html:<div class="xdj266r x14z9mp xat24cr x1lziwak x1vvkbs" style="margin-inline: 0px\; overflow-wrap: break-word\; margin-bottom: 0px\; margin-top: 0px\; font-family: system-ui\, -apple-system\, &quot\;system-ui&quot\;\, &quot\;.SFNSText-Regular&quot\;\, sans-serif\; color: rgb(8\, 8\, 9)\; font-size: 15px\;"><br />\nStep into a world of imagination and curiosity at Berry Hill Resort with our Mad Hatter Mixology Experience\, inspired by the whimsical world of Alice in Wonderland. Join us for a playful evening of creativity and cocktails as our talented Mixologist Taylor Wazeka guides guests through the art of crafting three delightfully themed cocktails inspired by the beloved story.</div>\n\n<div class="x14z9mp xat24cr x1lziwak x1vvkbs xtlvy1s" style="margin-inline: 0px\; overflow-wrap: break-word\; margin-bottom: 0px\; margin-top: 0.5em\; font-family: system-ui\, -apple-system\, &quot\;system-ui&quot\;\, &quot\;.SFNSText-Regular&quot\;\, sans-serif\; color: rgb(8\, 8\, 9)\; font-size: 15px\;">During this interactive class\, you&rsquo\;ll learn professional mixology techniques while creating three imaginative drinks that capture the magic\, mystery\, and colorful characters of Wonderland. Guests will enjoy tasting each cocktail and will receive recipe cards to recreate the experience at home.</div>\n\n<div class="x14z9mp xat24cr x1lziwak x1vvkbs xtlvy1s" style="margin-inline: 0px\; overflow-wrap: break-word\; margin-bottom: 0px\; margin-top: 0.5em\; font-family: system-ui\, -apple-system\, &quot\;system-ui&quot\;\, &quot\;.SFNSText-Regular&quot\;\, sans-serif\; color: rgb(8\, 8\, 9)\; font-size: 15px\;">Whether you&#39\;re a cocktail enthusiast or simply looking for a unique evening out\, this enchanting mixology class promises an unforgettable journey down the rabbit hole.</div>\n\n<div class="x14z9mp xat24cr x1lziwak x1vvkbs xtlvy1s" style="margin-inline: 0px\; overflow-wrap: break-word\; margin-bottom: 0px\; margin-top: 0.5em\; font-family: system-ui\, -apple-system\, &quot\;system-ui&quot\;\, &quot\;.SFNSText-Regular&quot\;\, sans-serif\; color: rgb(8\, 8\, 9)\; font-size: 15px\;">Tickets are $35 per person.<br class="html-br" />\nReservations are recommended.</div>\n
LOCATION:Berry Hill Resort & Conference Center
UID:e.845.25169
SEQUENCE:3
DTSTAMP:20260420T180653Z
URL:https://www.halifaxchamber.net/events/details/mad-hatter-mixology-25169
END:VEVENT

END:VCALENDAR
