BEGIN:VCALENDAR
VERSION:2.0
PRODID:-//ChamberMaster//Event Calendar 2.0//EN
METHOD:PUBLISH
X-PUBLISHED-TTL:P3D
REFRESH-INTERVAL:P3D
CALSCALE:GREGORIAN
BEGIN:VEVENT
DTSTART:20160305T153000Z
DTEND:20160305T163000Z
X-MICROSOFT-CDO-ALLDAYEVENT:FALSE
SUMMARY:Intro to CrossFit
DESCRIPTION:This will be required for new incoming members. Must attend within first month of joining. Learn the fundamentals and foundational movements required for CrossFit. Great review class for all members It's FREE and FUN!
X-ALT-DESC;FMTTYPE=text/html:<p><span style="font-family: arial\;"><span style="color: rgb(20\, 24\, 35)\; text-transform: none\; line-height: 25.76px\; text-indent: 0px\; letter-spacing: normal\; font-size: 14px\; font-style: normal\; font-variant: normal\; font-weight: normal\; word-spacing: 0px\; float: none\; display: inline !important\; white-space: normal\; widows: 1\; font-size-adjust: none\; font-stretch: normal\; background-color: rgb(255\, 255\, 255)\; -webkit-text-stroke-width: 0px\;">This will be required for new incoming members. </span><span helvetica="" inline="">Must attend within first month of joining. Learn the fundamentals and foundational movements required for CrossFit. Great review class for all members</span><span style="color: rgb(20\, 24\, 35)\; text-transform: none\; line-height: 25.76px\; text-indent: 0px\; letter-spacing: normal\; font-size: 14px\; font-style: normal\; font-variant: normal\; font-weight: normal\; word-spacing: 0px\; float: none\; display: inline !important\; white-space: normal\; widows: 1\; font-size-adjust: none\; font-stretch: normal\; background-color: rgb(255\, 255\, 255)\; -webkit-text-stroke-width: 0px\;"> It&#39\;s FREE and FUN!</span></span></p>\n
LOCATION:101 Wren Street South Boston\, VA 24592
UID:e.845.4580
SEQUENCE:3
DTSTAMP:20260425T111310Z
URL:https://www.halifaxchamber.net/events/details/intro-to-crossfit-03-05-2016-4580
END:VEVENT

END:VCALENDAR
