BEGIN:VCALENDAR
VERSION:2.0
PRODID:-//ChamberMaster//Event Calendar 2.0//EN
METHOD:PUBLISH
X-PUBLISHED-TTL:P3D
REFRESH-INTERVAL:P3D
CALSCALE:GREGORIAN
BEGIN:VEVENT
DTSTART:20151021T160000Z
DTEND:20151021T170000Z
X-MICROSOFT-CDO-ALLDAYEVENT:FALSE
SUMMARY:HYPE Lunch - Guest Speaker Matt Lewis\, YMCA Center Director
DESCRIPTION:We will be hearing from guest speaker\, Matt Lewis\, new Center Director of the YMCA in South Boston. Please come join us as Matt discusses his exciting plans for strengthening the YMCA and our community. We look forward to seeing you there!
X-ALT-DESC;FMTTYPE=text/html:<span style="font: 14px/25.01px helvetica\, arial\, sans-serif\; text-align: left\; color: rgb(20\, 24\, 35)\; text-transform: none\; text-indent: 0px\; letter-spacing: normal\; word-spacing: 0px\; float: none\; display: inline !important\; white-space: normal\; widows: 1\; font-size-adjust: none\; font-stretch: normal\; background-color: rgb(255\, 255\, 255)\; -webkit-text-stroke-width: 0px\;">We will be hearing from guest speaker\, Matt Lewis\, new Center Director of the YMCA in South Boston. Please come join us as Matt discusses his exciting plans for strengthening the YMCA and our community. We look forward to seeing you there!</span>
LOCATION:Ernie's Restaurant 1010 John Randolph Blvd. South Boston\, VA 24592
UID:e.845.4550
SEQUENCE:3
DTSTAMP:20260425T193103Z
URL:https://www.halifaxchamber.net/events/details/hype-lunch-guest-speaker-matt-lewis-ymca-center-director-10-21-2015-4550
END:VEVENT

END:VCALENDAR
