BEGIN:VCALENDAR
VERSION:2.0
PRODID:-//ChamberMaster//Event Calendar 2.0//EN
METHOD:PUBLISH
X-PUBLISHED-TTL:P3D
REFRESH-INTERVAL:P3D
CALSCALE:GREGORIAN
BEGIN:VEVENT
DTSTART:20160310T123000Z
DTEND:20160310T133000Z
X-MICROSOFT-CDO-ALLDAYEVENT:FALSE
SUMMARY:HYPE Business at Breakfast - Personal Financial Planning Session
DESCRIPTION:Do you have questions about how to begin saving for retirement? Have you established your own savings plan? Curious about investing options? \n\nThere is lots to learn in order to create financial stability for yourself and your family.\n\n\n\nOn Thursday\, March 10th\, please join us for a breakfast discussion with Guest Speaker\, Ryan Garrett of Edward Jones to give us an overview on some of these topics. Mr. Garrett is a Principal and Area Leader Financial Advisor for Edward Jones with over 30 years of experience.\n\n\n\nYou'll be privileged to hear financial planning information directly from Ryan at this breakfast. Come early to order yourself a cup of coffee and bite to eat prepared by The Packhouse\, in downtown Halifax before the session begins.\n\n\n\nSo we are able to best accommodate our group\, it's important that you please RSVP for this event by Thursday\, March 3rd.\n\n\n\nYou may RSVP by calling the Chamber at 572-3085\, emailing ltetterton@halifaxchamber.net\, or registering online on the Chamber's event calendar. \n\n\n\nThis is a personal development/informational session you won't want to miss! We look forward to seeing you there.
X-ALT-DESC;FMTTYPE=text/html:<span style="font-family: arial\;"><span style="color: rgb(20\, 24\, 35)\; text-transform: none\; line-height: 25.01px\; text-indent: 0px\; letter-spacing: normal\; font-size: 14px\; font-style: normal\; font-variant: normal\; font-weight: normal\; word-spacing: 0px\; float: none\; display: inline !important\; white-space: normal\; widows: 1\; font-size-adjust: none\; font-stretch: normal\; background-color: rgb(255\, 255\, 255)\; -webkit-text-stroke-width: 0px\;">Do you have questions about how to begin saving for retirement? Have you established your own savings plan? Curious about investing options? </span><br style="font: 14px/25.01px helvetica\, arial\, sans-serif\; color: rgb(20\, 24\, 35)\; text-transform: none\; text-indent: 0px\; letter-spacing: normal\; word-spacing: 0px\; white-space: normal\; widows: 1\; font-size-adjust: none\; font-stretch: normal\; background-color: rgb(255\, 255\, 255)\; -webkit-text-stroke-width: 0px\;" />\n<span style="color: rgb(20\, 24\, 35)\; text-transform: none\; line-height: 25.01px\; text-indent: 0px\; letter-spacing: normal\; font-size: 14px\; font-style: normal\; font-variant: normal\; font-weight: normal\; word-spacing: 0px\; float: none\; display: inline !important\; white-space: normal\; widows: 1\; font-size-adjust: none\; font-stretch: normal\; background-color: rgb(255\, 255\, 255)\; -webkit-text-stroke-width: 0px\;">There is lots to learn in order to create financial stability for yourself and your family.</span><br style="font: 14px/25.01px helvetica\, arial\, sans-serif\; color: rgb(20\, 24\, 35)\; text-transform: none\; text-indent: 0px\; letter-spacing: normal\; word-spacing: 0px\; white-space: normal\; widows: 1\; font-size-adjust: none\; font-stretch: normal\; background-color: rgb(255\, 255\, 255)\; -webkit-text-stroke-width: 0px\;" />\n<br style="font: 14px/25.01px helvetica\, arial\, sans-serif\; color: rgb(20\, 24\, 35)\; text-transform: none\; text-indent: 0px\; letter-spacing: normal\; word-spacing: 0px\; white-space: normal\; widows: 1\; font-size-adjust: none\; font-stretch: normal\; background-color: rgb(255\, 255\, 255)\; -webkit-text-stroke-width: 0px\;" />\n<span style="color: rgb(20\, 24\, 35)\; text-transform: none\; line-height: 25.01px\; text-indent: 0px\; letter-spacing: normal\; font-size: 14px\; font-style: normal\; font-variant: normal\; font-weight: normal\; word-spacing: 0px\; float: none\; display: inline !important\; white-space: normal\; widows: 1\; font-size-adjust: none\; font-stretch: normal\; background-color: rgb(255\, 255\, 255)\; -webkit-text-stroke-width: 0px\;">On Thursday\, March 10th\, please join us for a breakfast discussion with Guest Speaker\, Ryan Garrett of Edward Jones to give us an overview on some of these topics. Mr. Garrett is a Principal and Area Leader Financial Advisor for Edward Jones with over 30 years of experience.</span><br style="font: 14px/25.01px helvetica\, arial\, sans-serif\; color: rgb(20\, 24\, 35)\; text-transform: none\; text-indent: 0px\; letter-spacing: normal\; word-spacing: 0px\; white-space: normal\; widows: 1\; font-size-adjust: none\; font-stretch: normal\; background-color: rgb(255\, 255\, 255)\; -webkit-text-stroke-width: 0px\;" />\n<br style="font: 14px/25.01px helvetica\, arial\, sans-serif\; color: rgb(20\, 24\, 35)\; text-transform: none\; text-indent: 0px\; letter-spacing: normal\; word-spacing: 0px\; white-space: normal\; widows: 1\; font-size-adjust: none\; font-stretch: normal\; background-color: rgb(255\, 255\, 255)\; -webkit-text-stroke-width: 0px\;" />\n<span style="color: rgb(20\, 24\, 35)\; text-transform: none\; line-height: 25.01px\; text-indent: 0px\; letter-spacing: normal\; font-size: 14px\; font-style: normal\; font-variant: normal\; font-weight: normal\; word-spacing: 0px\; float: none\; display: inline !important\; white-space: normal\; widows: 1\; font-size-adjust: none\; font-stretch: normal\; background-color: rgb(255\, 255\, 255)\; -webkit-text-stroke-width: 0px\;">You&#39\;ll be privileged to hear financial planning information directly </span><span style="color: rgb(20\, 24\, 35)\; text-transform: none\; line-height: 25.01px\; text-indent: 0px\; letter-spacing: normal\; font-size: 14px\; font-style: normal\; font-variant: normal\; font-weight: normal\; word-spacing: 0px\; float: none\; display: inline !important\; white-space: normal\; widows: 1\; font-size-adjust: none\; font-stretch: normal\; background-color: rgb(255\, 255\, 255)\; -webkit-text-stroke-width: 0px\;">from Ryan</span><span style="color: rgb(20\, 24\, 35)\; text-transform: none\; line-height: 25.01px\; text-indent: 0px\; letter-spacing: normal\; font-size: 14px\; font-style: normal\; font-variant: normal\; font-weight: normal\; word-spacing: 0px\; float: none\; display: inline !important\; white-space: normal\; widows: 1\; font-size-adjust: none\; font-stretch: normal\; background-color: rgb(255\, 255\, 255)\; -webkit-text-stroke-width: 0px\;">&nbsp\;at this breakfast. Come early to order yourself a cup of coffee and bite to eat prepared by The Packhouse\, in downtown Halifax before the session begins.</span><br style="font: 14px/25.01px helvetica\, arial\, sans-serif\; color: rgb(20\, 24\, 35)\; text-transform: none\; text-indent: 0px\; letter-spacing: normal\; word-spacing: 0px\; white-space: normal\; widows: 1\; font-size-adjust: none\; font-stretch: normal\; background-color: rgb(255\, 255\, 255)\; -webkit-text-stroke-width: 0px\;" />\n<br style="font: 14px/25.01px helvetica\, arial\, sans-serif\; color: rgb(20\, 24\, 35)\; text-transform: none\; text-indent: 0px\; letter-spacing: normal\; word-spacing: 0px\; white-space: normal\; widows: 1\; font-size-adjust: none\; font-stretch: normal\; background-color: rgb(255\, 255\, 255)\; -webkit-text-stroke-width: 0px\;" />\n<span style="color: rgb(20\, 24\, 35)\; text-transform: none\; line-height: 25.01px\; text-indent: 0px\; letter-spacing: normal\; font-size: 14px\; font-style: normal\; font-variant: normal\; font-weight: normal\; word-spacing: 0px\; float: none\; display: inline !important\; white-space: normal\; widows: 1\; font-size-adjust: none\; font-stretch: normal\; background-color: rgb(255\, 255\, 255)\; -webkit-text-stroke-width: 0px\;">So we are able to best accommodate our group\, it&#39\;s important that you please RSVP for this event by Thursday\, March 3rd.</span><br style="font: 14px/25.01px helvetica\, arial\, sans-serif\; color: rgb(20\, 24\, 35)\; text-transform: none\; text-indent: 0px\; letter-spacing: normal\; word-spacing: 0px\; white-space: normal\; widows: 1\; font-size-adjust: none\; font-stretch: normal\; background-color: rgb(255\, 255\, 255)\; -webkit-text-stroke-width: 0px\;" />\n<br style="font: 14px/25.01px helvetica\, arial\, sans-serif\; color: rgb(20\, 24\, 35)\; text-transform: none\; text-indent: 0px\; letter-spacing: normal\; word-spacing: 0px\; white-space: normal\; widows: 1\; font-size-adjust: none\; font-stretch: normal\; background-color: rgb(255\, 255\, 255)\; -webkit-text-stroke-width: 0px\;" />\n<span style="color: rgb(20\, 24\, 35)\; text-transform: none\; line-height: 25.01px\; text-indent: 0px\; letter-spacing: normal\; font-size: 14px\; font-style: normal\; font-variant: normal\; font-weight: normal\; word-spacing: 0px\; white-space: normal\; widows: 1\; font-size-adjust: none\; font-stretch: normal\; background-color: rgb(255\, 255\, 255)\; -webkit-text-stroke-width: 0px\;">You may RSVP by calling the Chamber at 572-3085\, emailing ltetterton@halifaxchamber.</span><wbr style="font: 14px/25.01px helvetica\, arial\, sans-serif\; color: rgb(20\, 24\, 35)\; text-transform: none\; text-indent: 0px\; letter-spacing: normal\; word-spacing: 0px\; white-space: normal\; widows: 1\; font-size-adjust: none\; font-stretch: normal\; background-color: rgb(255\, 255\, 255)\; -webkit-text-stroke-width: 0px\;" /><span style="color: rgb(20\, 24\, 35)\; text-transform: none\; line-height: 25.01px\; text-indent: 0px\; letter-spacing: normal\; font-size: 14px\; font-style: normal\; font-variant: normal\; font-weight: normal\; word-spacing: 0px\; float: none\; display: inline !important\; white-space: normal\; widows: 1\; font-size-adjust: none\; font-stretch: normal\; background-color: rgb(255\, 255\, 255)\; -webkit-text-stroke-width: 0px\;">net\, or registering online on the Chamber&#39\;s event calendar. </span><br style="font: 14px/25.01px helvetica\, arial\, sans-serif\; color: rgb(20\, 24\, 35)\; text-transform: none\; text-indent: 0px\; letter-spacing: normal\; word-spacing: 0px\; white-space: normal\; widows: 1\; font-size-adjust: none\; font-stretch: normal\; background-color: rgb(255\, 255\, 255)\; -webkit-text-stroke-width: 0px\;" />\n<br style="font: 14px/25.01px helvetica\, arial\, sans-serif\; color: rgb(20\, 24\, 35)\; text-transform: none\; text-indent: 0px\; letter-spacing: normal\; word-spacing: 0px\; white-space: normal\; widows: 1\; font-size-adjust: none\; font-stretch: normal\; background-color: rgb(255\, 255\, 255)\; -webkit-text-stroke-width: 0px\;" />\n<span style="color: rgb(20\, 24\, 35)\; text-transform: none\; line-height: 25.01px\; text-indent: 0px\; letter-spacing: normal\; font-size: 14px\; font-style: normal\; font-variant: normal\; font-weight: normal\; word-spacing: 0px\; float: none\; display: inline !important\; white-space: normal\; widows: 1\; font-size-adjust: none\; font-stretch: normal\; background-color: rgb(255\, 255\, 255)\; -webkit-text-stroke-width: 0px\;">This is a personal development/informational session you won&#39\;t want to miss! We look forward to seeing you there.</span></span>
LOCATION:The Packhouse 121 South Main Street Halifax\, VA 24558
UID:e.845.4570
SEQUENCE:3
DTSTAMP:20260425T111755Z
URL:https://www.halifaxchamber.net/events/details/hype-business-at-breakfast-personal-financial-planning-session-03-10-2016-4570
END:VEVENT

END:VCALENDAR
