BEGIN:VCALENDAR
VERSION:2.0
PRODID:-//ChamberMaster//Event Calendar 2.0//EN
METHOD:PUBLISH
X-PUBLISHED-TTL:P3D
REFRESH-INTERVAL:P3D
CALSCALE:GREGORIAN
BEGIN:VEVENT
DTSTART:20151209T230000Z
DTEND:20151210T010000Z
X-MICROSOFT-CDO-ALLDAYEVENT:FALSE
SUMMARY:Galleria d'arte Showcase
DESCRIPTION:Join us next Wednesday\, December 9th from 6-8\, to celebrate the work of Rebecca Rodgers and Raven Collins. Come meet the artists while enjoying a glass of wine and hors d'oeuvres!
X-ALT-DESC;FMTTYPE=text/html:<span style="font: 14px/25.01px helvetica\, arial\, sans-serif\; color: rgb(20\, 24\, 35)\; text-transform: none\; text-indent: 0px\; letter-spacing: normal\; word-spacing: 0px\; float: none\; display: inline !important\; white-space: normal\; widows: 1\; font-size-adjust: none\; font-stretch: normal\; background-color: rgb(255\, 255\, 255)\; -webkit-text-stroke-width: 0px\;">Join us next Wednesday\, December 9th from 6-8\, to celebrate the work of Rebecca Rodgers and Raven Collins. Come meet the artists while enjoying a glass of wine and hors d&#39\;oeuvres!</span>
LOCATION:Galleria d'arte 217 Main Street South Boston\, VA 24592
UID:e.845.4559
SEQUENCE:3
DTSTAMP:20260425T161522Z
URL:https://www.halifaxchamber.net/events/details/galleria-d-arte-showcase-12-09-2015-4559
END:VEVENT

END:VCALENDAR
