BEGIN:VCALENDAR
VERSION:2.0
PRODID:-//ChamberMaster//Event Calendar 2.0//EN
METHOD:PUBLISH
X-PUBLISHED-TTL:P3D
REFRESH-INTERVAL:P3D
CALSCALE:GREGORIAN
BEGIN:VEVENT
DTSTART:20170517T140000Z
DTEND:20170517T170000Z
X-MICROSOFT-CDO-ALLDAYEVENT:FALSE
SUMMARY:G.W Rice Insurance Ribbon Cutting & Grand Opening
DESCRIPTION:G.W. Rice Insurance invites you to their Ribbon Cutting & Grand Opening. \n\n\n\nPlease stop by to meet your local Independent Insurance Agent\, Dennis T. Rice and welcome him to our community.
X-ALT-DESC;FMTTYPE=text/html:G.W. Rice Insurance invites you to their Ribbon Cutting &amp\; Grand Opening.&nbsp\;<br />\n<br />\nPlease stop by to meet your local Independent Insurance Agent\, Dennis T. Rice and welcome him to our community.
LOCATION:G.W. Rice Insurance 103 South Main St. Halifax\, VA
UID:e.845.5908
SEQUENCE:3
DTSTAMP:20260423T010954Z
URL:https://www.halifaxchamber.net/events/details/g-w-rice-insurance-ribbon-cutting-grand-opening-5908
END:VEVENT

END:VCALENDAR
