BEGIN:VCALENDAR
VERSION:2.0
PRODID:-//ChamberMaster//Event Calendar 2.0//EN
METHOD:PUBLISH
X-PUBLISHED-TTL:P3D
REFRESH-INTERVAL:P3D
CALSCALE:GREGORIAN
BEGIN:VEVENT
DTSTART:20160227T000000Z
DTEND:20160227T020000Z
X-MICROSOFT-CDO-ALLDAYEVENT:FALSE
SUMMARY:"Free People of Color" speaker at Museum
DESCRIPTION:Teresa Roane\, librarian and archivist for the United Daughters of the Confederacy\, will be guest speaker at the South Boston - Halifax County Museum of Fine Arts and History in honor of Black History Month.\n\n\n\nRoane's lecture "Free People of Color" will cover the significant and often overlooked contribution that Free People of Color living in the South provided to the Confederacy during the Civil War.
X-ALT-DESC;FMTTYPE=text/html:Teresa Roane\, librarian and archivist for the United Daughters of the Confederacy\, will be guest speaker at the South Boston - Halifax County Museum of Fine Arts and History in honor of Black History Month.<br />\n<br />\nRoane&#39\;s lecture &quot\;Free People of Color&quot\; will cover the&nbsp\;significant and often overlooked contribution that Free People of Color living in the South provided to the Confederacy during the Civil War.
LOCATION:South Boston - Halifax County Museum of Fine Arts and History
UID:e.845.4576
SEQUENCE:3
DTSTAMP:20260425T125038Z
URL:https://www.halifaxchamber.net/events/details/free-people-of-color-speaker-at-museum-02-26-2016-4576
END:VEVENT

END:VCALENDAR
