BEGIN:VCALENDAR
VERSION:2.0
PRODID:-//ChamberMaster//Event Calendar 2.0//EN
METHOD:PUBLISH
X-PUBLISHED-TTL:P3D
REFRESH-INTERVAL:P3D
CALSCALE:GREGORIAN
BEGIN:VEVENT
DTSTART:20160128T230000Z
DTEND:20160129T010000Z
X-MICROSOFT-CDO-ALLDAYEVENT:FALSE
SUMMARY:Financial Aid Awareness Night
DESCRIPTION:Please join TRIO's Educational Opportunity Center (EOC) for a Free informational session on completing the 2016-17 financial aid application or FAFSA. Learn helpful tips in completing scholarship applications and receive assistance in registering for the FSA ID.\n\n\n\n      Special Guests:\n\n\n\nPaul Farrar\, Program Coordinator \n\nSouthside Tobacco Region Scholarship\n\n\n\nShannon Hair\, Executive Director\n\nDCC Educational Foundation\n\n\n\nFred Webb\, Executive Director\n\nJT-Minnie Maude Charitable Trust
X-ALT-DESC;FMTTYPE=text/html:Please join TRIO&#39\;s Educational Opportunity Center (EOC) for a Free informational session on completing the 2016-17 financial aid application or FAFSA. Learn helpful tips in completing scholarship applications and receive assistance in registering for the FSA ID.<br />\n<br />\n&nbsp\;&nbsp\;&nbsp\;&nbsp\;&nbsp\;&nbsp\;Special Guests:<br />\n<br />\nPaul Farrar\, Program Coordinator&nbsp\;<br />\nSouthside Tobacco Region Scholarship<br />\n<br />\nShannon Hair\, Executive Director<br />\nDCC Educational Foundation<br />\n<br />\nFred Webb\, Executive Director<br />\nJT-Minnie Maude Charitable Trust&nbsp\;&nbsp\;&nbsp\;&nbsp\;&nbsp\;&nbsp\;<br />\n&nbsp\;
LOCATION:Halifax County High School
UID:e.845.4565
SEQUENCE:3
DTSTAMP:20260425T143629Z
URL:https://www.halifaxchamber.net/events/details/financial-aid-awareness-night-01-28-2016-4565
END:VEVENT

END:VCALENDAR
