BEGIN:VCALENDAR
VERSION:2.0
PRODID:-//ChamberMaster//Event Calendar 2.0//EN
METHOD:PUBLISH
X-PUBLISHED-TTL:P3D
REFRESH-INTERVAL:P3D
CALSCALE:GREGORIAN
BEGIN:VEVENT
DTSTART:20160120T180000Z
DTEND:20160121T223000Z
X-MICROSOFT-CDO-ALLDAYEVENT:FALSE
SUMMARY:Faneuil Job Fair
DESCRIPTION:The Faneuil South Boston location is now hiring for English and Spanish Bilingual Customer Service Associates for multiple clients.  They will be conducting testing and interviews onsite. All interested parties please come dressed in business casual attire.
X-ALT-DESC;FMTTYPE=text/html:<br />\nThe Faneuil South Boston location is now hiring for English and Spanish Bilingual Customer Service Associates for multiple clients.&nbsp\; They will be conducting testing and interviews onsite. All interested parties please come dressed in business casual attire.
LOCATION:Virginia Workforce Center 2506 Houghton\, Ave South Boston\, VA 24592
UID:e.845.4567
SEQUENCE:3
DTSTAMP:20260425T143613Z
URL:https://www.halifaxchamber.net/events/details/faneuil-job-fair-01-20-2016-4567
END:VEVENT

END:VCALENDAR
