BEGIN:VCALENDAR
VERSION:2.0
PRODID:-//ChamberMaster//Event Calendar 2.0//EN
METHOD:PUBLISH
X-PUBLISHED-TTL:P3D
REFRESH-INTERVAL:P3D
CALSCALE:GREGORIAN
BEGIN:VEVENT
DTSTART:20160326T140000Z
DTEND:20160326T160000Z
X-MICROSOFT-CDO-ALLDAYEVENT:FALSE
SUMMARY:Easter Egg Hunt at Patrick Henry's Red Hill
DESCRIPTION:The Patrick Henry National Memorial invites you and your children to join them on the beautiful grounds of Patrick Henry's Red hill to participate in the annual Easter egg hunt. Children ages 0-12 years can search for eggs and collect lots of goodies. The Easter story will be told twice during the event by members of local churches and volunteers. There will be costumed docents outside of the Henry home to provide information about the plantation buildings. This year there are stations for different age groups to create and make your own Easter Bunny Ears!
X-ALT-DESC;FMTTYPE=text/html:The Patrick Henry National Memorial invites you and your children to join them on the beautiful grounds of Patrick Henry&#39\;s Red hill to participate in the annual Easter egg hunt. Children ages 0-12 years can search for eggs and collect lots of goodies. The Easter story will be told twice during the event by members of local churches and volunteers. There will be costumed docents outside of the Henry home to provide information about the plantation buildings. This year there are stations for different age groups to create and make your own Easter Bunny Ears!
LOCATION:Patrick Henry's Red Hill 1250 Red Hill Road Brookneal\, VA 24528
UID:e.845.4595
SEQUENCE:3
DTSTAMP:20260425T111410Z
URL:https://www.halifaxchamber.net/events/details/easter-egg-hunt-at-patrick-henry-s-red-hill-03-26-2016-4595
END:VEVENT

END:VCALENDAR
