BEGIN:VCALENDAR
VERSION:2.0
PRODID:-//ChamberMaster//Event Calendar 2.0//EN
METHOD:PUBLISH
X-PUBLISHED-TTL:P3D
REFRESH-INTERVAL:P3D
CALSCALE:GREGORIAN
BEGIN:VEVENT
DTSTART:20160311T220000Z
DTEND:20160312T010000Z
X-MICROSOFT-CDO-ALLDAYEVENT:FALSE
SUMMARY:Downtown Abbey Night
DESCRIPTION:The South Boston Museum is hosting a "Downtown Abbey Night." Join the museum for an opportunity to turn off those cell phones\, don black tie and beaded chemises and come ready to take one's own journey "back to the future." So live dangerously for a few hours\, down some hor d'oeuvres and buy your flapper a cocktail de jour.
X-ALT-DESC;FMTTYPE=text/html:The South Boston Museum is hosting a &quot\;Downtown Abbey Night.&quot\; Join the museum for an opportunity to turn off those cell phones\, don black tie and beaded chemises and come ready to take one&#39\;s own journey &quot\;back to the future.&quot\; So live dangerously for a few hours\, down some hor d&#39\;oeuvres and buy your flapper a cocktail de jour.<br />\n&nbsp\;
LOCATION:South Boston Museum
UID:e.845.4571
SEQUENCE:3
DTSTAMP:20260425T111314Z
URL:https://www.halifaxchamber.net/events/details/downtown-abbey-night-03-11-2016-4571
END:VEVENT

END:VCALENDAR
