BEGIN:VCALENDAR
VERSION:2.0
PRODID:-//ChamberMaster//Event Calendar 2.0//EN
METHOD:PUBLISH
X-PUBLISHED-TTL:P3D
REFRESH-INTERVAL:P3D
CALSCALE:GREGORIAN
BEGIN:VEVENT
DTSTART:20150915T193000Z
DTEND:20150915T223000Z
X-MICROSOFT-CDO-ALLDAYEVENT:FALSE
SUMMARY:Community Volunteer Expo
DESCRIPTION:Halifax Young Professionals & Entrepreneurs (HYPE) is a group of the Halifax County Chamber of Commerce that aims to attract and keep young professionals engaged in the community through professional development\, social and service events.  On September 15\, 2015\, HYPE will be hosting its inaugural Volunteer Expo in collaboration with the Halifax County Chamber of Commerce! \n\n\n\nThe goal of this Volunteer Expo is to give non-profit volunteer based organizations in Halifax County the opportunity to showcase what they do in the community and their need for volunteers within their organization to keep this benefit to the community alive! \n\n\n\nWe invite the community to join us in this event to check out all of the wonderful nonprofit volunteer based organizations that Halifax County has to offer. We hope that one of these organizations will spark your interest and that you'll become an active volunteer!
X-ALT-DESC;FMTTYPE=text/html:<span style="font-family: tahoma\;"><span style="font-size: 14px\;">Halifax Young Professionals &amp\; Entrepreneurs (HYPE) is a group of the Halifax County Chamber of Commerce that aims to attract and keep young professionals engaged in the community through professional development\, social and service events.&nbsp\; On September 15\, 2015\, HYPE will be hosting its inaugural Volunteer Expo in collaboration with the Halifax County Chamber of Commerce!&nbsp\;<br />\n<br />\nThe goal of this Volunteer Expo is to give non-profit&nbsp\;volunteer based&nbsp\;organizations in Halifax County the opportunity to showcase what they do in the community and their need for volunteers within their organization to keep this benefit to the community alive!&nbsp\;</span></span><br />\n<br />\n<span style="font-size: 14px\;">We invite the community to join us in this event&nbsp\;to check out all&nbsp\;of the wonderful nonprofit volunteer based organizations that Halifax County has to offer. We hope that one of these organizations will spark your interest and that you&#39\;ll become an active volunteer!</span>
LOCATION:Washington Coleman Community Center 1911 Jeffress Blvd. South Boston\, VA 24592
UID:e.845.3328
SEQUENCE:3
DTSTAMP:20260425T210922Z
URL:https://www.halifaxchamber.net/events/details/community-volunteer-expo-09-15-2015-3328
END:VEVENT

END:VCALENDAR
