BEGIN:VCALENDAR
VERSION:2.0
PRODID:-//ChamberMaster//Event Calendar 2.0//EN
METHOD:PUBLISH
X-PUBLISHED-TTL:P3D
REFRESH-INTERVAL:P3D
CALSCALE:GREGORIAN
BEGIN:VEVENT
DTSTART:20191223T223000Z
DTEND:20191224T003000Z
X-MICROSOFT-CDO-ALLDAYEVENT:FALSE
SUMMARY:Caroling in the Square
DESCRIPTION:Tis the Season to be Jolly! Fa La La La La La La La La\n\nThe Prizery's One Community Initiative invites everyone out to join us for our 3rd Annual Caroling in the Square.\n\nMeet at Constitution Square - Downtown South Boston\n\nRefreshments served afterwards at Lyon Funeral Home.\n\nFor more information\, call Jack Stewart 579-8006 or Angela Yancey 572-8339.\n\nIf you are part of a large group coming\, please let us know so we have enough song sheet\, candles and refreshments.
X-ALT-DESC;FMTTYPE=text/html:<div style="text-align: center\;"><strong>Tis the Season to be Jolly! Fa La La La La La La La La</strong><br />\nThe Prizery&#39\;s One Community Initiative invites everyone out to join us for our 3rd Annual Caroling in the Square.<br />\nMeet at Constitution Square - Downtown South Boston<br />\nRefreshments served afterwards at Lyon Funeral Home.<br />\nFor more information\, call Jack Stewart 579-8006 or Angela Yancey 572-8339.<br />\nIf you are part of a large group coming\, please let us know so we have enough song sheet\, candles and refreshments.&nbsp\;</div>\n
LOCATION:Constitution Square - Down Town South Boston
UID:e.845.15582
SEQUENCE:3
DTSTAMP:20260420T203328Z
URL:https://www.halifaxchamber.net/events/details/caroling-in-the-square-12-23-2019-15582
END:VEVENT

END:VCALENDAR
