BEGIN:VCALENDAR
VERSION:2.0
PRODID:-//ChamberMaster//Event Calendar 2.0//EN
METHOD:PUBLISH
X-PUBLISHED-TTL:P3D
REFRESH-INTERVAL:P3D
CALSCALE:GREGORIAN
BEGIN:VEVENT
DTSTART:20180419T213000Z
DTEND:20180419T230000Z
X-MICROSOFT-CDO-ALLDAYEVENT:FALSE
SUMMARY:Business After Hours - Sponsored by South Boston-Halifax County Visitor Center and Blue Ridge Beverage Company
DESCRIPTION:Join us for Business After Hours on Thursday\, April 19\, from 5:30 - 7:00pm\, sponsored by South Boston-Halifax County Visitor Center and Blue Ridge Beverage Company.\n\n\n\nSince parking is limited at the Visitor Center there will be a shuttle running from the World of Sports to the Visitor Center. \n\n\n\nBusiness After Hours (BAH) is one of the Chamber's most popular networking events. Usually held on selected Thursdays of each month\, BAH is hosted by a different member business each time. These are free to attend and are usually from 5:30-7:00 p.m. Members are encouraged to come join us after work and be sure and bring plenty of business cards as you'll give them all out!
X-ALT-DESC;FMTTYPE=text/html:Join us for Business After Hours on Thursday\, April 19\, from&nbsp\;5:30 - 7:00pm\, sponsored by South Boston-Halifax County Visitor Center and Blue Ridge Beverage Company.<br />\n<br />\nSince parking is limited at the Visitor Center there will be a shuttle running from the World of Sports to the Visitor Center.&nbsp\;<br />\n<br />\nBusiness After Hours (BAH) is one of the Chamber&rsquo\;s most popular networking events. Usually held on selected Thursdays of each month\, BAH is hosted by a different member business each time. These are free to attend and are usually from 5:30-7:00 p.m. Members are encouraged to come join us after work and be sure and bring plenty of business cards as you&rsquo\;ll give them all out!
LOCATION:South Boston-Halifax County Visitor Center 1180 Bill Tuck Hwy. South Boston\, VA 24592
UID:e.845.7192
SEQUENCE:3
DTSTAMP:20260422T073107Z
URL:https://www.halifaxchamber.net/events/details/business-after-hours-sponsored-by-south-boston-halifax-county-visitor-center-and-blue-ridge-beverage-company-7192
END:VEVENT

END:VCALENDAR
