BEGIN:VCALENDAR
VERSION:2.0
PRODID:-//ChamberMaster//Event Calendar 2.0//EN
METHOD:PUBLISH
X-PUBLISHED-TTL:P3D
REFRESH-INTERVAL:P3D
CALSCALE:GREGORIAN
BEGIN:VEVENT
DTSTART:20150924T213000Z
DTEND:20150924T230000Z
X-MICROSOFT-CDO-ALLDAYEVENT:FALSE
SUMMARY:Business After Hours - September 24th 2015 - Sponsored by Mid-Atlantic Broadband
DESCRIPTION:Join us for Business After Hours on Thursday\, September 24\, 2015 from 5:30 - 7pm. September's Business After Hours is sponsored by Mid-Atlantic Broadband and will be held at their office located in the Southern Virginia Technology Park in South Boston.\n\n\n\nBusiness After Hours (BAH) is one of the Chamber's most popular networking events. Usually held on selected Thursdays of each month\, BAH is hosted by a different member business each time. These are free to attend and are usually from 5:30-7 p.m. Members are encouraged to come join us after work and be sure and bring plenty of business cards as you'll give them all out!
X-ALT-DESC;FMTTYPE=text/html:Join us for Business After Hours on Thursday\,&nbsp\;September 24\, 2015 from 5:30 - 7pm. September&#39\;s Business After Hours is sponsored by Mid-Atlantic Broadband&nbsp\;and&nbsp\;will be&nbsp\;held at their office&nbsp\;located in the Southern Virginia Technology Park in South Boston.<br />\n<br />\nBusiness After Hours (BAH) is one of the Chamber&rsquo\;s most popular networking events. Usually held on selected Thursdays of each month\, BAH is hosted by a different member business each time. These are <strong>free</strong> to attend and are usually from 5:30-7 p.m. Members are encouraged to come join us after work and be sure and bring plenty of business cards as you&rsquo\;ll give them all out!
LOCATION:Located in the Southern Virginia Technology Park 1100 Confroy Drive South Boston\, VA 24592
UID:e.845.3534
SEQUENCE:3
DTSTAMP:20260425T211240Z
URL:https://www.halifaxchamber.net/events/details/business-after-hours-september-24th-2015-sponsored-by-mid-atlantic-broadband-09-24-2015-3534
END:VEVENT

END:VCALENDAR
