BEGIN:VCALENDAR
VERSION:2.0
PRODID:-//ChamberMaster//Event Calendar 2.0//EN
METHOD:PUBLISH
X-PUBLISHED-TTL:P3D
REFRESH-INTERVAL:P3D
CALSCALE:GREGORIAN
BEGIN:VEVENT
DTSTART:20151028T213000Z
DTEND:20151028T230000Z
X-MICROSOFT-CDO-ALLDAYEVENT:FALSE
SUMMARY:Business After Hours - October 28 2015 - Sponsored by Huber Engineered Woods
DESCRIPTION:Join us for Business After Hours on Wednesday\, October 28\, 2015 from 5:30 - 7pm. September's Business After Hours is sponsored by Huber Engineered Woods and will be held at Molasses Grill.\n\n\n\nBusiness After Hours (BAH) is one of the Chamber's most popular networking events. Usually held on selected Thursdays of each month\, BAH is hosted by a different member business each time. These are free to attend and are usually from 5:30-7 p.m. Members are encouraged to come join us after work and be sure and bring plenty of business cards as you'll give them all out!
X-ALT-DESC;FMTTYPE=text/html:Join us for Business After Hours on Wednesday\, October 28\, 2015 from 5:30 - 7pm. September&#39\;s Business After Hours is sponsored by Huber Engineered Woods and&nbsp\;will be&nbsp\;held at Molasses Grill.<br />\n<br />\nBusiness After Hours (BAH) is one of the Chamber&rsquo\;s most popular networking events. Usually held on selected Thursdays of each month\, BAH is hosted by a different member business each time. These are <strong>free</strong> to attend and are usually from 5:30-7 p.m. Members are encouraged to come join us after work and be sure and bring plenty of business cards as you&rsquo\;ll give them all out!
LOCATION:Molasses Grill 65 S Main Street Halifax\, VA 24558
UID:e.845.4549
SEQUENCE:3
DTSTAMP:20260425T193046Z
URL:https://www.halifaxchamber.net/events/details/business-after-hours-october-28-2015-sponsored-by-huber-engineered-woods-10-28-2015-4549
END:VEVENT

END:VCALENDAR
