BEGIN:VCALENDAR
VERSION:2.0
PRODID:-//ChamberMaster//Event Calendar 2.0//EN
METHOD:PUBLISH
X-PUBLISHED-TTL:P3D
REFRESH-INTERVAL:P3D
CALSCALE:GREGORIAN
BEGIN:VEVENT
DTSTART:20160225T223000Z
DTEND:20160226T000000Z
X-MICROSOFT-CDO-ALLDAYEVENT:FALSE
SUMMARY:Business After Hours - February 25th - Sponsored by Sentara Woodview
DESCRIPTION:Join us for Business After Hours on Thursday\, February 25th\, 5:30 - 7pm\, sponsored by Sentara Woodview. Sentara Woodview will also be providing attendees with a tour of their brand new therapy gym during the event.\n\n\n\nBusiness After Hours (BAH) is one of the Chamber's most popular networking events. Usually held on selected Thursdays of each month\, BAH is hosted by a different member business each time. These are free to attend and are usually from 5:30-7 p.m. Members are encouraged to come join us after work and be sure and bring plenty of business cards as you'll give them all out!
X-ALT-DESC;FMTTYPE=text/html:Join us for Business After Hours on Thursday\, February 25th\, 5:30 - 7pm\, sponsored by Sentara Woodview. Sentara Woodview will also be providing attendees with a tour of their brand new therapy gym during the event.<br />\n<br />\nBusiness After Hours (BAH) is one of the Chamber&rsquo\;s most popular networking events. Usually held on selected Thursdays of each month\, BAH is hosted by a different member business each time. These are free to attend and are usually from 5:30-7 p.m. Members are encouraged to come join us after work and be sure and bring plenty of business cards as you&rsquo\;ll give them all out!
LOCATION:Sentara Woodview 103 Rosehill Drive South Boston\, VA 24592
UID:e.845.4568
SEQUENCE:3
DTSTAMP:20260425T125038Z
URL:https://www.halifaxchamber.net/events/details/business-after-hours-february-25th-sponsored-by-sentara-woodview-02-25-2016-4568
END:VEVENT

END:VCALENDAR
