BEGIN:VCALENDAR
VERSION:2.0
PRODID:-//ChamberMaster//Event Calendar 2.0//EN
METHOD:PUBLISH
X-PUBLISHED-TTL:P3D
REFRESH-INTERVAL:P3D
CALSCALE:GREGORIAN
BEGIN:VEVENT
DTSTART:20151210T223000Z
DTEND:20151211T000000Z
X-MICROSOFT-CDO-ALLDAYEVENT:FALSE
SUMMARY:Business After Hours - December 10 - Sponsored by Benchmark Community Bank
DESCRIPTION:Join us for a very special Christmas Business After Hours on Thursday\, December 10\, 5:30 - 7pm\, sponsored by Benchmark Community Bank. The event will be held at Benchmark Community Bank in Riverdale.\n\n\n\nBusiness After Hours (BAH) is one of the Chamber's most popular networking events. Usually held on selected Thursdays of each month\, BAH is hosted by a different member business each time. These are free to attend and are usually from 5:30-7 p.m. Members are encouraged to come join us after work and be sure and bring plenty of business cards as you'll give them all out!
X-ALT-DESC;FMTTYPE=text/html:Join us for a very special Christmas Business After Hours on Thursday\, December 10\, 5:30 - 7pm\, sponsored by Benchmark Community Bank. The event will be held&nbsp\;at Benchmark Community Bank in Riverdale.<br />\n<br />\nBusiness After Hours (BAH) is one of the Chamber&rsquo\;s most popular networking events. Usually held on selected Thursdays of each month\, BAH is hosted by a different member business each time. These are <strong>free</strong> to attend and are usually from 5:30-7 p.m. Members are encouraged to come join us after work and be sure and bring plenty of business cards as you&rsquo\;ll give them all out!
LOCATION:Benchmark Community Bank 1135 Huell Matthews Hwy. South Boston\, VA 24592
UID:e.845.4556
SEQUENCE:3
DTSTAMP:20260425T162849Z
URL:https://www.halifaxchamber.net/events/details/business-after-hours-december-10-sponsored-by-benchmark-community-bank-12-10-2015-4556
END:VEVENT

END:VCALENDAR
