BEGIN:VCALENDAR
VERSION:2.0
PRODID:-//ChamberMaster//Event Calendar 2.0//EN
METHOD:PUBLISH
X-PUBLISHED-TTL:P3D
REFRESH-INTERVAL:P3D
CALSCALE:GREGORIAN
BEGIN:VEVENT
DTSTART:20180823T213000Z
DTEND:20180823T230000Z
X-MICROSOFT-CDO-ALLDAYEVENT:FALSE
SUMMARY:Building the Foundation for Your New Small Business
DESCRIPTION:Topic: Start-up Assistance\n\nSmall businesses play a vital role in the growth of our economy. Did you know that over 1 million businesses are started each year? The harsh reality is only about 20 percent survive past the first year. Planning is everything! Prepare to start a successful business: Evaluate your entrepreneurial abilities Marketing strategies Financial resources Legal form of organization Tips to prepare & present your business plan If you are considering starting a business\, this FREE seminar will provide valuable information that may help your business be among the 20 percent that survive. \n\nSpeaker(s): Presented and taught by Lin Hite\, Regional Director\n\nCo-Sponsor(s): Longwood SBDC\, George Mason University\, Virginia Small Business Development Center\, U.S. Small Business Administration\, SVHEC\, Halifax IDA
X-ALT-DESC;FMTTYPE=text/html:<div style="font-size: 16px\; margin: 0px\; padding: 0px\; border: 0px\; outline: 0px\; vertical-align: baseline\; font-family: Arial\;">Topic: Start-up Assistance</div>\n\n<p class="cdworkshoptextinfo" style="font-size: 16px\; margin: 0px 0px 1.5em\; padding: 0px\; border: 0px\; outline: 0px\; vertical-align: baseline\; line-height: 1.6em\; white-space: pre-wrap\; font-family: Arial\;">Small businesses play a vital role in the growth of our economy. Did you know that over 1 million businesses are started each year? The harsh reality is only about 20 percent survive past the first year. Planning is everything! Prepare to start a successful business: Evaluate your entrepreneurial abilities Marketing strategies Financial resources Legal form of organization Tips to prepare &amp\; present your business plan If you are considering starting a business\, this FREE seminar will provide valuable information that may help your business be among the 20 percent that survive.&nbsp\;</p>\n\n<p class="cdworkshoptextinfo" style="font-size: 16px\; margin: 0px 0px 1.5em\; padding: 0px\; border: 0px\; outline: 0px\; vertical-align: baseline\; line-height: 1.6em\; white-space: pre-wrap\; font-family: Arial\;">Speaker(s): Presented and taught by Lin Hite\, Regional Director</p>\n\n<p class="cdworkshoptextinfo" style="font-size: 16px\; margin: 0px 0px 1.5em\; padding: 0px\; border: 0px\; outline: 0px\; vertical-align: baseline\; line-height: 1.6em\; white-space: pre-wrap\; font-family: Arial\;">Co-Sponsor(s): Longwood SBDC\, George Mason University\, Virginia Small Business Development Center\, U.S. Small Business Administration\, SVHEC\, Halifax IDA</p>\n\n<p class="cdworkshoptextinfo" style="font-size: 16px\; margin: 0px 0px 1.5em\; padding: 0px\; border: 0px\; outline: 0px\; vertical-align: baseline\; line-height: 1.6em\; white-space: pre-wrap\; font-family: Arial\;">&nbsp\;</p>\n\n<div style="font-size: 16px\; margin: 0px\; padding: 0px\; border: 0px\; outline: 0px\; vertical-align: baseline\; font-family: Arial\;">&nbsp\;</div>\n&nbsp\;\n\n<p style="font-size: 16px\; margin: 0px 0px 1.5em\; padding: 0px\; border: 0px\; outline: 0px\; vertical-align: baseline\; line-height: 1.6em\; font-family: Arial\;">&nbsp\;</p>\n
LOCATION:Southern Virginia Higher Education Center 820 Bruce Street South Boston\, VA 24592 2nd floor\, Hope Classroom
UID:e.845.8486
SEQUENCE:3
DTSTAMP:20260421T222222Z
URL:https://www.halifaxchamber.net/events/details/building-the-foundation-for-your-new-small-business-8486
END:VEVENT

END:VCALENDAR
