BEGIN:VCALENDAR
VERSION:2.0
PRODID:-//ChamberMaster//Event Calendar 2.0//EN
METHOD:PUBLISH
X-PUBLISHED-TTL:P3D
REFRESH-INTERVAL:P3D
CALSCALE:GREGORIAN
BEGIN:VEVENT
DTSTART;VALUE=DATE:20151009
DTEND;VALUE=DATE:20151011
TRANSP:TRANSPARENT
X-MICROSOFT-CDO-ALLDAYEVENT:TRUE
SUMMARY:Art in the Garden Plein Air Paint Out
DESCRIPTION:Easels will dot our neighborhood as artists create their outdoor paintings in the beauty of nature. Art lovers will enjoy meandering in the gardens and watching the artists work. The public can catch a glimpse of our artists painting on Friday 10:00 a.m   5:00 p.m. and Saturday from 9:00 a.m.   4:00 p.m. \n\n\n\nDon't miss the chance to meet the artists and buy your favorite painting at the cocktail reception on October 10th from 5:00-7:00 p.m. in the Garden at Sixth and Main.
X-ALT-DESC;FMTTYPE=text/html:<span style="font: 14px/24px &quot\;Open Sans&quot\;\, Helvetica\, Arial\, sans-serif\; color: rgb(104\, 104\, 104)\; text-transform: none\; text-indent: 0px\; letter-spacing: normal\; word-spacing: 0px\; float: none\; display: inline !important\; white-space: normal\; widows: 1\; font-size-adjust: none\; font-stretch: normal\; background-color: rgb(255\, 255\, 255)\; -webkit-text-stroke-width: 0px\;">Easels will dot our neighborhood as artists create their outdoor paintings in the beauty of nature. Art lovers will enjoy meandering in the gardens and watching the artists work. The public can catch a glimpse of our artists painting on Friday 10:00 a.m &ndash\; 5:00 p.m. and Saturday from 9:00 a.m. &ndash\; 4:00 p.m. </span><br />\n<br />\n<span style="font: 14px/24px &quot\;Open Sans&quot\;\, Helvetica\, Arial\, sans-serif\; color: rgb(104\, 104\, 104)\; text-transform: none\; text-indent: 0px\; letter-spacing: normal\; word-spacing: 0px\; float: none\; display: inline !important\; white-space: normal\; widows: 1\; font-size-adjust: none\; font-stretch: normal\; background-color: rgb(255\, 255\, 255)\; -webkit-text-stroke-width: 0px\;">Don&rsquo\;t miss the chance to meet the artists and buy your favorite painting at the cocktail reception on October 10th from 5:00-7:00 p.m. in the Garden at Sixth and Main.</span>
LOCATION:October 9th & 10th at three beautiful gardens in the heart of South Boston's historical residential district. Rick & Frances Harrell are opening their Garden at Sixth and Main and the South Garden at Sixth & Washington for the event. The Prayer Garden at Main Street United Methodist Church will be the third venue. Each garden offers delightful vistas to capture.
UID:e.845.4545
SEQUENCE:3
DTSTAMP:20260425T193245Z
URL:https://www.halifaxchamber.net/events/details/art-in-the-garden-plein-air-paint-out-10-09-2015-4545
END:VEVENT

END:VCALENDAR
