BEGIN:VCALENDAR
VERSION:2.0
PRODID:-//ChamberMaster//Event Calendar 2.0//EN
METHOD:PUBLISH
X-PUBLISHED-TTL:P3D
REFRESH-INTERVAL:P3D
CALSCALE:GREGORIAN
BEGIN:VEVENT
DTSTART:20160308T180000Z
DTEND:20160308T210000Z
X-MICROSOFT-CDO-ALLDAYEVENT:FALSE
SUMMARY:AmeriStaff Job Fair
DESCRIPTION:Recruiting For\n\nMachine Operators\n\nGeneral Laborers\n\nWarehouse Workers\n\nTire Technician\n\nProduction Workers\n\nMaintenance Technician\n\nLandscaping Technician\n\nSales/Customer Service Rep\n\nForklift Operators (Manufacturing setting)\n\nSecretary (Office manager experience)\n\nPressman (Previous experience required)\n\nUtility Technician (Previous experience required)\n\nDriver-Safety Manager/Dispatcher (previous experience required)
X-ALT-DESC;FMTTYPE=text/html:<strong>Recruiting For</strong><br />\nMachine Operators<br />\nGeneral Laborers<br />\nWarehouse Workers<br />\nTire Technician<br />\nProduction Workers<br />\nMaintenance Technician<br />\nLandscaping Technician<br />\nSales/Customer Service Rep<br />\nForklift Operators (Manufacturing setting)<br />\nSecretary (Office manager experience)<br />\nPressman (Previous experience required)<br />\nUtility Technician (Previous experience required)<br />\nDriver-Safety Manager/Dispatcher (previous experience required)<br />\n&nbsp\;
LOCATION:4130 Halifax Road South Boston \, VA 24592
UID:e.845.4582
SEQUENCE:3
DTSTAMP:20260425T111324Z
URL:https://www.halifaxchamber.net/events/details/ameristaff-job-fair-03-08-2016-4582
END:VEVENT

END:VCALENDAR
