BEGIN:VCALENDAR
VERSION:2.0
PRODID:-//ChamberMaster//Event Calendar 2.0//EN
METHOD:PUBLISH
X-PUBLISHED-TTL:P3D
REFRESH-INTERVAL:P3D
CALSCALE:GREGORIAN
BEGIN:VEVENT
DTSTART:20210318T213000Z
DTEND:20210318T230000Z
X-MICROSOFT-CDO-ALLDAYEVENT:FALSE
SUMMARY:66th Annual Meeting & Awards Celebration
DESCRIPTION:The 66th Annual Meeting and Awards Celebration will be held Thursday\, March 18\, 2021\, via Zoom. The Annual Membership Meeting is a celebration of the Chamber?s accomplishments and a look into the Chamber?s upcoming year. It is one of the largest and most popular events of the year\, bringing together Chamber Members\, business leaders\, elected officials and community stakeholders. Board members and volunteers are recognized for their commitment to the Chamber. Due to gathering and safety restrictions caused by the COVID-19 pandemic\, the Chamber will host this event virtually.\n\n \n\nThe virtual event will begin at 5:30 pm. The Chairman of the Board will recognize outgoing board members and volunteers. The incoming Chairman of the Board will be introduced along with the installation of incoming Board of Directors. Members that have had an exceptional influence on the community and economy will be recognized during a presentation of Business\, Business Person\, and Young Professional of the Year. During the event\, attendees will be entered into a drawing to win prizes from local businesses. CLICK HERE  to see an updated list of prizes.\n\n\n\nEvent sponsors for this year?s event are Ad Nerds Media and Fairfield by Marriott. Additional sponsorships and individual tickets are available online at www.halifaxchamber.net. For more information on the Chamber?s Annual Meeting & Awards Celebration\, call the Chamber office at 434-572-3085.
X-ALT-DESC;FMTTYPE=text/html:The 66<sup>th</sup> Annual Meeting and Awards Celebration will be held Thursday\, March 18\, 2021\, via Zoom. The Annual Membership Meeting is a celebration of the Chamber?s accomplishments and a look into the Chamber?s upcoming year. It is one of the largest and most popular events of the year\, bringing together Chamber Members\, business leaders\, elected officials and community stakeholders. Board members and volunteers are recognized for their commitment to the Chamber. Due to gathering and safety restrictions caused by the COVID-19 pandemic\, the Chamber will host this event virtually.<br />\n&nbsp\;<br />\nThe virtual event will begin at 5:30 pm. The Chairman of the Board will recognize outgoing board members and volunteers. The incoming Chairman of the Board will be introduced along with the installation of incoming Board of Directors. Members that have had an exceptional influence on the community and economy will be recognized during a presentation of Business\, Business Person\, and Young Professional of the Year. During the event\, attendees will be entered into a drawing to win prizes from local businesses. <a href="https://chambermaster.blob.core.windows.net/userfiles/UserFiles/chambers/845/File/AnnualMeeting2021Prizes.png">CLICK HERE </a> to see an updated list of prizes.<br />\n<br />\nEvent sponsors for this year?s event are Ad Nerds Media and Fairfield by Marriott. Additional sponsorships and individual tickets are available online at www.halifaxchamber.net. For more information on the Chamber?s Annual Meeting &amp\; Awards Celebration\, call the Chamber office at 434-572-3085.<br />\n&nbsp\;
LOCATION:via Zoom. The event link will be sent to attendees.
UID:e.845.17835
SEQUENCE:3
DTSTAMP:20260419T182754Z
URL:https://www.halifaxchamber.net/events/details/66th-annual-meeting-awards-celebration-17835
END:VEVENT

END:VCALENDAR
