BEGIN:VCALENDAR
VERSION:2.0
PRODID:-//ChamberMaster//Event Calendar 2.0//EN
METHOD:PUBLISH
X-PUBLISHED-TTL:P3D
REFRESH-INTERVAL:P3D
CALSCALE:GREGORIAN
BEGIN:VEVENT
DTSTART:20160324T210000Z
DTEND:20160324T230000Z
X-MICROSOFT-CDO-ALLDAYEVENT:FALSE
SUMMARY:3rd Annual Law Enforcement Easter Egg Hunt
DESCRIPTION:This year's Easter Egg hunt will include lots of eggs to find and numerous door prizes to give away. A free hot dog supper for all attending while supplies last. The Easter Bunny will be on site. Children are reminded to to bring their own basket
X-ALT-DESC;FMTTYPE=text/html:This year&#39\;s Easter Egg hunt will include lots of eggs to find and numerous door prizes to give away. A free hot dog supper for all attending while supplies last. The Easter Bunny will be on site. Children are reminded to to bring their own basket
LOCATION:Halifax County Fairgrounds
UID:e.845.4594
SEQUENCE:3
DTSTAMP:20260425T111141Z
URL:https://www.halifaxchamber.net/events/details/3rd-annual-law-enforcement-easter-egg-hunt-03-24-2016-4594
END:VEVENT

END:VCALENDAR
