BEGIN:VCALENDAR
VERSION:2.0
PRODID:-//ChamberMaster//Event Calendar 2.0//EN
METHOD:PUBLISH
X-PUBLISHED-TTL:P3D
REFRESH-INTERVAL:P3D
CALSCALE:GREGORIAN
BEGIN:VEVENT
DTSTART:20260516T130000Z
DTEND:20260516T170000Z
X-MICROSOFT-CDO-ALLDAYEVENT:FALSE
SUMMARY:22nd Annual Walk for Hope
DESCRIPTION:The Walk for Hope is held each year to celebrate cancer survivors\, remember those who have lost their battle with cancer and to raise funds to assist current cancer patients.\n\n\n\nThe 22nd Annual Walk for Hope at the Downtown South Boston Constitution Square. There will be a survivors walk\, music\, food trucks\, touching ceremonies\, stories of inspirations\, and fellowship. \n\n\n\nRegistration for the walk will begin at 9:00 a.m. and the walk will be from 10:00 a.m. to 1:00 p.m. \n\n\n\nThis is an event for everyone. Pledge envelopes are available at Dr. Boris Darovsky office\, Eclipse Hair Studio\, Hite Insurance Agency\, Tops In Hair Care\, and the HCCA office. If anyone is interested in sponsoring this event\, call 476-2714.
X-ALT-DESC;FMTTYPE=text/html:<br />\n<span style="color: rgb(8\, 8\, 9)\; font-family: system-ui\, -apple-system\, &quot\;system-ui&quot\;\, &quot\;.SFNSText-Regular&quot\;\, sans-serif\; font-size: 15px\;">The Walk for Hope is held each year to celebrate cancer survivors\, remember those who have lost their battle with cancer and to raise funds to assist current cancer patients.</span><br />\n<br />\nThe 22nd Annual Walk for Hope at the Downtown South Boston Constitution Square. There will be a survivors walk\, music\, food trucks\, touching ceremonies\, stories of inspirations\, and fellowship.&nbsp\;<br />\n<br />\nRegistration for the walk will begin at 9:00 a.m. and the walk will be from 10:00 a.m. to 1:00 p.m.&nbsp\;<br />\n<br />\nThis is an event for everyone. Pledge envelopes are available at Dr. Boris Darovsky office\, Eclipse Hair Studio\, Hite Insurance Agency\, Tops In Hair Care\, and the HCCA office. If anyone is interested in sponsoring this event\, call 476-2714.&nbsp\;
LOCATION:Constitution Square Downtown South Boston
UID:e.845.25171
SEQUENCE:3
DTSTAMP:20260420T180652Z
URL:https://www.halifaxchamber.net/events/details/22nd-annual-walk-for-hope-25171
END:VEVENT

END:VCALENDAR
