BEGIN:VCALENDAR
VERSION:2.0
PRODID:-//ChamberMaster//Event Calendar 2.0//EN
METHOD:PUBLISH
X-PUBLISHED-TTL:P3D
REFRESH-INTERVAL:P3D
CALSCALE:GREGORIAN
BEGIN:VEVENT
DTSTART:20160326T233000Z
DTEND:20160327T040000Z
X-MICROSOFT-CDO-ALLDAYEVENT:FALSE
SUMMARY:1st Annual Masquerade Gala
DESCRIPTION:Come be a part of the biggest Black Tie social event of 2016.\n\n\n\nExclusive Ticket\n\nOne Custom-Made Mask\n\nUnlimited Signature Cocktails\n\nGourmet Delights\n\nLive entertainment with Special Guest Appearances by: Essence of Movement  \n\n\n\nFormal Attire Only\n\n*Limited Seating*
X-ALT-DESC;FMTTYPE=text/html:Come be a part of the biggest Black Tie social event of 2016.<br />\n<br />\n<strong>Exclusive Ticket</strong><br />\nOne Custom-Made Mask<br />\nUnlimited Signature Cocktails<br />\nGourmet Delights<br />\nLive entertainment with Special Guest Appearances by: Essence of Movement&nbsp\;&nbsp\;<br />\n<br />\nFormal Attire Only<br />\n*Limited Seating*<br />\n&nbsp\;
LOCATION:The Prizery 700 Bruce Street South Boston\, VA 24592
UID:e.845.4581
SEQUENCE:3
DTSTAMP:20260425T111410Z
URL:https://www.halifaxchamber.net/events/details/1st-annual-masquerade-gala-03-26-2016-4581
END:VEVENT

END:VCALENDAR
